BEGIN:VCALENDAR
VERSION:2.0
PRODID:researchseminars.org
CALSCALE:GREGORIAN
X-WR-CALNAME:researchseminars.org
BEGIN:VEVENT
SUMMARY:Ella Hiesmayr (University of California\, Berkeley)
DTSTART:20211119T174500Z
DTEND:20211119T180000Z
DTSTAMP:20260423T005654Z
UID:NEPS2021/28
DESCRIPTION:Title: <a href="https://researchseminars.org/talk/NEPS2021/28/
 ">Large deviations of the largest eigenvalue of sparse matrices with non-G
 aussian edge weights</a>\nby Ella Hiesmayr (University of California\, Ber
 keley) as part of 20th Northeast probability seminar\n\nAbstract: TBA\n
LOCATION:https://researchseminars.org/talk/NEPS2021/28/
END:VEVENT
END:VCALENDAR
