BEGIN:VCALENDAR
VERSION:2.0
PRODID:researchseminars.org
CALSCALE:GREGORIAN
X-WR-CALNAME:researchseminars.org
BEGIN:VEVENT
SUMMARY:Laura Shou (Princeton University)
DTSTART:20211119T173000Z
DTEND:20211119T174500Z
DTSTAMP:20260423T024548Z
UID:NEPS2021/27
DESCRIPTION:Title: <a href="https://researchseminars.org/talk/NEPS2021/27/
 ">Eigenvector statistics for graphs from quantized interval maps</a>\nby L
 aura Shou (Princeton University) as part of 20th Northeast probability sem
 inar\n\nAbstract: TBA\n
LOCATION:https://researchseminars.org/talk/NEPS2021/27/
END:VEVENT
END:VCALENDAR
