BEGIN:VCALENDAR
VERSION:2.0
PRODID:researchseminars.org
CALSCALE:GREGORIAN
X-WR-CALNAME:researchseminars.org
BEGIN:VEVENT
SUMMARY:Yongjia Xie (Purdue University)
DTSTART:20211119T160000Z
DTEND:20211119T161500Z
DTSTAMP:20260423T024547Z
UID:NEPS2021/22
DESCRIPTION:Title: <a href="https://researchseminars.org/talk/NEPS2021/22/
 ">Moderate deviation of the free energy for integrable directed polymer mo
 dels</a>\nby Yongjia Xie (Purdue University) as part of 20th Northeast pro
 bability seminar\n\nAbstract: TBA\n
LOCATION:https://researchseminars.org/talk/NEPS2021/22/
END:VEVENT
END:VCALENDAR
