BEGIN:VCALENDAR
VERSION:2.0
PRODID:researchseminars.org
CALSCALE:GREGORIAN
X-WR-CALNAME:researchseminars.org
BEGIN:VEVENT
SUMMARY:Manuel Hauke (NTNU Trondheim)
DTSTART:20241008T161500Z
DTEND:20241008T173000Z
DTSTAMP:20260423T021827Z
UID:NEDNT/77
DESCRIPTION:Title: <a href="https://researchseminars.org/talk/NEDNT/77/">M
 etric Diophantine approximation: Moving targets and inhomogeneous variants
 </a>\nby Manuel Hauke (NTNU Trondheim) as part of New England Dynamics and
  Number Theory Seminar\n\nLecture held in Online.\n\nAbstract\nKhintchine
 ’s Theorem and its inhomogeneous and multidimensional variants provide a
  satisfying answer about the quality of approximations for almost every nu
 mber. In this talk\, I will discuss the (still open) question of allowing 
 a moving target (that is\, the inhomogeneous parameter changes for each de
 nominator) in Khintchine’s Theorem. Furthermore\, I will describe Duffin
 –Schaeffer-type results and conjectures in these setups\, both in dimens
 ion 1\, but also in higher dimensions. This is partially joint work with V
 ictor Beresnevich and Sanju Velani\, respectively with Felipe Ramírez.\n
LOCATION:https://researchseminars.org/talk/NEDNT/77/
END:VEVENT
END:VCALENDAR
