BEGIN:VCALENDAR
VERSION:2.0
PRODID:researchseminars.org
CALSCALE:GREGORIAN
X-WR-CALNAME:researchseminars.org
BEGIN:VEVENT
SUMMARY:Jie Zhou (Capital Normal University)
DTSTART:20230315T080000Z
DTEND:20230315T100000Z
DTSTAMP:20260423T005815Z
UID:NCTS-GMT/15
DESCRIPTION:Title: <a href="https://researchseminars.org/talk/NCTS-GMT/15/
 ">Bi-Lipschitz regularity of 2-varifolds with the critical Allard conditio
 n</a>\nby Jie Zhou (Capital Normal University) as part of NCTS internation
 al Geometric Measure Theory seminar\n\n\nAbstract\nFor an integral 2-varif
 old in the unit ball of the Euclidean space passing through the origin\, i
 f it satisfies the critical Allard condition\, i.e.\, the mass of the vari
 fold in the unit ball is close to the area of a flat unit disk and the L$^
 2$ norm of the generalized mean curvature is small enough\, we show that l
 ocally the support of the varifold admits a bi-Lipschitz parameterization 
 from the unit disk. The presentation is based on a joint work with Dr. Yuc
 hen Bi.\n
LOCATION:https://researchseminars.org/talk/NCTS-GMT/15/
END:VEVENT
END:VCALENDAR
