BEGIN:VCALENDAR
VERSION:2.0
PRODID:researchseminars.org
CALSCALE:GREGORIAN
X-WR-CALNAME:researchseminars.org
BEGIN:VEVENT
SUMMARY:Serafina Lapenta (University of Salerno)
DTSTART:20210312T170000Z
DTEND:20210312T190000Z
DTSTAMP:20260423T052953Z
UID:NCLogic/10
DESCRIPTION:Title: <a href="https://researchseminars.org/talk/NCLogic/10/"
 >Tackling the Pierce-Birkhoff conjecture via logic</a>\nby Serafina Lapent
 a (University of Salerno) as part of Nonclassical Logic Webinar\n\nAbstrac
 t: TBA\n
LOCATION:https://researchseminars.org/talk/NCLogic/10/
END:VEVENT
END:VCALENDAR
