BEGIN:VCALENDAR
VERSION:2.0
PRODID:researchseminars.org
CALSCALE:GREGORIAN
X-WR-CALNAME:researchseminars.org
BEGIN:VEVENT
SUMMARY:Alessandro Carotenuto (Institute of Mathematics\, Czech Academy of
  Sciences)
DTSTART:20201020T140000Z
DTEND:20201020T150000Z
DTSTAMP:20260423T010235Z
UID:NCGandT/8
DESCRIPTION:Title: <a href="https://researchseminars.org/talk/NCGandT/8/">
 Connections for Jordan Modules</a>\nby Alessandro Carotenuto (Institute of
  Mathematics\, Czech Academy of Sciences) as part of NCG&T Prague - Noncom
 mutative geometry and topology seminar\n\nAbstract: TBA\n
LOCATION:https://researchseminars.org/talk/NCGandT/8/
END:VEVENT
END:VCALENDAR
