BEGIN:VCALENDAR
VERSION:2.0
PRODID:researchseminars.org
CALSCALE:GREGORIAN
X-WR-CALNAME:researchseminars.org
BEGIN:VEVENT
SUMMARY:Benjamin Steinberg (City University of New York)
DTSTART:20210427T153000Z
DTEND:20210427T163000Z
DTSTAMP:20260423T023013Z
UID:NCGandT/35
DESCRIPTION:Title: <a href="https://researchseminars.org/talk/NCGandT/35/"
 >Cartan Pairs of Algebras</a>\nby Benjamin Steinberg (City University of N
 ew York) as part of NCG&T Prague - Noncommutative geometry and topology se
 minar\n\nAbstract: TBA\n
LOCATION:https://researchseminars.org/talk/NCGandT/35/
END:VEVENT
END:VCALENDAR
