BEGIN:VCALENDAR
VERSION:2.0
PRODID:researchseminars.org
CALSCALE:GREGORIAN
X-WR-CALNAME:researchseminars.org
BEGIN:VEVENT
SUMMARY:Alexandru Chirvasitu (SUNY Buffalo)
DTSTART:20210420T140000Z
DTEND:20210420T150000Z
DTSTAMP:20260423T041810Z
UID:NCGandT/34
DESCRIPTION:Title: <a href="https://researchseminars.org/talk/NCGandT/34/"
 >Topics in Toeplitz-algebra rigidity</a>\nby Alexandru Chirvasitu (SUNY Bu
 ffalo) as part of NCG&T Prague - Noncommutative geometry and topology semi
 nar\n\nAbstract: TBA\n
LOCATION:https://researchseminars.org/talk/NCGandT/34/
END:VEVENT
END:VCALENDAR
