BEGIN:VCALENDAR
VERSION:2.0
PRODID:researchseminars.org
CALSCALE:GREGORIAN
X-WR-CALNAME:researchseminars.org
BEGIN:VEVENT
SUMMARY:Yairon Cid Ruiz (Ghent University)
DTSTART:20220221T163500Z
DTEND:20220221T170000Z
DTSTAMP:20260423T004729Z
UID:NASO/49
DESCRIPTION:Title: <a href="https://researchseminars.org/talk/NASO/49/">Mu
 ltidegrees at the crossroads of algebra\, geometry and combinatorics</a>\n
 by Yairon Cid Ruiz (Ghent University) as part of Max Planck Institute nonl
 inear algebra seminar online\n\nAbstract: TBA\n
LOCATION:https://researchseminars.org/talk/NASO/49/
END:VEVENT
END:VCALENDAR
