BEGIN:VCALENDAR
VERSION:2.0
PRODID:researchseminars.org
CALSCALE:GREGORIAN
X-WR-CALNAME:researchseminars.org
BEGIN:VEVENT
SUMMARY:Amy Huang (Texas A&M University)
DTSTART:20200623T150000Z
DTEND:20200623T155000Z
DTSTAMP:20260423T041113Z
UID:NASO/27
DESCRIPTION:Title: <a href="https://researchseminars.org/talk/NASO/27/">Va
 nishing Hessian and Wild Polynomials</a>\nby Amy Huang (Texas A&M Universi
 ty) as part of Max Planck Institute nonlinear algebra seminar online\n\nAb
 stract: TBA\n
LOCATION:https://researchseminars.org/talk/NASO/27/
END:VEVENT
END:VCALENDAR
