BEGIN:VCALENDAR
VERSION:2.0
PRODID:researchseminars.org
CALSCALE:GREGORIAN
X-WR-CALNAME:researchseminars.org
BEGIN:VEVENT
SUMMARY:Eugenie Hunsicker (Loughborough University)
DTSTART:20200409T162000Z
DTEND:20200409T170000Z
DTSTAMP:20260423T024647Z
UID:NASO/15
DESCRIPTION:Title: <a href="https://researchseminars.org/talk/NASO/15/">Ar
 chitecture for the Working Mathematician</a>\nby Eugenie Hunsicker (Loughb
 orough University) as part of Max Planck Institute nonlinear algebra semin
 ar online\n\n\nAbstract\nDel Pezzo surfaces are classified by their degree
 \, an integer between 1 and 9. Famous examples are those of degree 3\, whi
 ch are cubic surfaces in $P ^ 3$. In this talk I will focus on del Pezzo s
 urfaces of degree 1. After briefly describing their geometry\, I will talk
  about the set of Q-valued (rational) points on such a surface. I will sho
 w what is known about this set so far\, and which questions are still open
 .\n
LOCATION:https://researchseminars.org/talk/NASO/15/
END:VEVENT
END:VCALENDAR
