BEGIN:VCALENDAR
VERSION:2.0
PRODID:researchseminars.org
CALSCALE:GREGORIAN
X-WR-CALNAME:researchseminars.org
BEGIN:VEVENT
SUMMARY:Hamid Rahkooy (Max Planck Institute for Informatics\, Saarbrücken
 )
DTSTART:20220210T160000Z
DTEND:20220210T163000Z
DTSTAMP:20260421T124127Z
UID:MoRN/42
DESCRIPTION:Title: <a href="https://researchseminars.org/talk/MoRN/42/">Co
 mputations On Toricity/Binomiality of Chemical Reaction Networks</a>\nby H
 amid Rahkooy (Max Planck Institute for Informatics\, Saarbrücken) as part
  of Seminar on the Mathematics of Reaction Networks\n\n\nAbstract\nChemica
 l Reaction Networks (CRN) with Toric steady state\nvarities (or binomial s
 teady state ideals) are of high interest. In\nthis talk\, we summarizy sev
 eral theoretical as well as computational\nresults on toricity/binomiality
  of CRNs. We\nintroduce the geometric\nconcept of shifted toricity (in con
 trast to algebraic binomiality) and\npresent experimental and theoretical 
 results for detecting (shifted)\ntoricity. We present a polynomial time al
 gorithm for detecting\nbinomiality of reversible CRNs. Finally\, if time a
 llows\, we discuss\nsome experiments on parametric toricity/binomiality us
 ing quantifier\nelimination and comprehensive Gr\\"obner systems.\n
LOCATION:https://researchseminars.org/talk/MoRN/42/
END:VEVENT
END:VCALENDAR
