BEGIN:VCALENDAR
VERSION:2.0
PRODID:researchseminars.org
CALSCALE:GREGORIAN
X-WR-CALNAME:researchseminars.org
BEGIN:VEVENT
SUMMARY:Louis Faul (University of Fribourg)
DTSTART:20260226T160000Z
DTEND:20260226T163000Z
DTSTAMP:20260421T124820Z
UID:MoRN/142
DESCRIPTION:Title: <a href="https://researchseminars.org/talk/MoRN/142/">O
 n the abelian structure of noncompetitive chemical reaction networks</a>\n
 by Louis Faul (University of Fribourg) as part of Seminar on the Mathemati
 cs of Reaction Networks\n\n\nAbstract\nCRNs of interest in biochemistry an
 d systems biology are embedded in complex networks so that local CRNs have
  to respond to internal and environmental cues. We describe the network’
 s response to such perturbations using a Markov chain whose state space is
  the set of CRN’s static states\, from where no reaction is possible.  
 We study noncompetitive CRNs\, a class of networks whose static states are
  rate-independent\, and  is a special instance of Abelian networks. One c
 an thus use a unified algebraic and probabilistic framework for analyzing 
 their long-term behavior.\n
LOCATION:https://researchseminars.org/talk/MoRN/142/
END:VEVENT
END:VCALENDAR
