BEGIN:VCALENDAR
VERSION:2.0
PRODID:researchseminars.org
CALSCALE:GREGORIAN
X-WR-CALNAME:researchseminars.org
BEGIN:VEVENT
SUMMARY:Nidhi Kaihnsa (University of Copenhagen)
DTSTART:20260409T150000Z
DTEND:20260409T153000Z
DTSTAMP:20260421T123619Z
UID:MoRN/135
DESCRIPTION:Title: <a href="https://researchseminars.org/talk/MoRN/135/">C
 onnectivity in Parameter Regions of Reaction Networks</a>\nby Nidhi Kaihns
 a (University of Copenhagen) as part of Seminar on the Mathematics of Reac
 tion Networks\n\n\nAbstract\nI will discuss the general problem of connect
 ivity in the parameter regions of reactions networks. In particular for di
 fferent phosphorylation networks. The talk will be based on multiple joint
  works with Feliu\, Telek\, de Wolff\, Yürük\, and Wang. I will conclude
  with some open problems in this direction.\n
LOCATION:https://researchseminars.org/talk/MoRN/135/
END:VEVENT
END:VCALENDAR
