BEGIN:VCALENDAR
VERSION:2.0
PRODID:researchseminars.org
CALSCALE:GREGORIAN
X-WR-CALNAME:researchseminars.org
BEGIN:VEVENT
SUMMARY:Balázs Boros (Bolyai Institute\, University of Szeged)
DTSTART:20251106T163000Z
DTEND:20251106T170000Z
DTSTAMP:20260421T124446Z
UID:MoRN/132
DESCRIPTION:Title: <a href="https://researchseminars.org/talk/MoRN/132/">B
 ifurcations in small mass-action systems</a>\nby Balázs Boros (Bolyai Ins
 titute\, University of Szeged) as part of Seminar on the Mathematics of Re
 action Networks\n\n\nAbstract\nWe give an overview of the recent developme
 nts on the smallest quadratic mass-action reaction networks that admit And
 ronov-Hopf\, Bautin\, Bogdanov-Takens\, fold\, or cusp bifurcations. Then\
 , we discuss the analogous questions in the class of bimolecular mass-acti
 on reaction networks. Finally\, we briefly discuss the inheritance theory 
 of mass-action reaction networks\, which allows us to lift nondegenerate b
 ehaviors from a network to its enlargement.\n
LOCATION:https://researchseminars.org/talk/MoRN/132/
END:VEVENT
END:VCALENDAR
