BEGIN:VCALENDAR
VERSION:2.0
PRODID:researchseminars.org
CALSCALE:GREGORIAN
X-WR-CALNAME:researchseminars.org
BEGIN:VEVENT
SUMMARY:Jessica Cross (Dodding lab) &  Will Hancock (Bristol & Penn State)
DTSTART:20200909T150000Z
DTEND:20200909T160000Z
DTSTAMP:20260423T035720Z
UID:MiQ/4
DESCRIPTION:Title: <a href="https://researchseminars.org/talk/MiQ/4/">A de
 signed high-affinity peptide that hijacks microtubule-based transport & Un
 derstanding the diversity of dynein motility in vitro</a>\nby Jessica Cros
 s (Dodding lab) &  Will Hancock (Bristol & Penn State) as part of Motors I
 n Quarantine\n\nAbstract: TBA\n
LOCATION:https://researchseminars.org/talk/MiQ/4/
END:VEVENT
END:VCALENDAR
