BEGIN:VCALENDAR
VERSION:2.0
PRODID:researchseminars.org
CALSCALE:GREGORIAN
X-WR-CALNAME:researchseminars.org
BEGIN:VEVENT
SUMMARY:Jing Xu & Gant Luxton (UC Merced & Minnesota)
DTSTART:20200624T150000Z
DTEND:20200624T160000Z
DTSTAMP:20260423T035732Z
UID:MiQ/1
DESCRIPTION:Title: <a href="https://researchseminars.org/talk/MiQ/1/">Chol
 esterol in cargo membrane modulates effect of MAP tau on kinesin | One AAA
 + ring to rule them all? Investigating the mechanism(s) of torsinA-depende
 nt nuclear-cytoplasmic communication</a>\nby Jing Xu & Gant Luxton (UC Mer
 ced & Minnesota) as part of Motors In Quarantine\n\nAbstract: TBA\n
LOCATION:https://researchseminars.org/talk/MiQ/1/
END:VEVENT
END:VCALENDAR
