BEGIN:VCALENDAR
VERSION:2.0
PRODID:researchseminars.org
CALSCALE:GREGORIAN
X-WR-CALNAME:researchseminars.org
BEGIN:VEVENT
SUMMARY:Madelyn Rose Sanfilippo (School of Information Sciences\, Universi
 ty of Illinois at Urbana-Champaign)
DTSTART:20210818T160000Z
DTEND:20210818T170000Z
DTSTAMP:20260423T095506Z
UID:Metagov/71
DESCRIPTION:Title: <a href="https://researchseminars.org/talk/Metagov/71/"
 >Co-production of EdTech Governance</a>\nby Madelyn Rose Sanfilippo (Schoo
 l of Information Sciences\, University of Illinois at Urbana-Champaign) as
  part of Metagovernance Seminar\n\nAbstract: TBA\n
LOCATION:https://researchseminars.org/talk/Metagov/71/
END:VEVENT
END:VCALENDAR
