BEGIN:VCALENDAR
VERSION:2.0
PRODID:researchseminars.org
CALSCALE:GREGORIAN
X-WR-CALNAME:researchseminars.org
BEGIN:VEVENT
SUMMARY:Sarah Cone (Column)
DTSTART:20210310T170000Z
DTEND:20210310T180000Z
DTSTAMP:20260421T084851Z
UID:Metagov/47
DESCRIPTION:Title: <a href="https://researchseminars.org/talk/Metagov/47/"
 >Introducing Column (joincolumn.com)</a>\nby Sarah Cone (Column) as part o
 f Metagovernance Seminar\n\nAbstract: TBA\n
LOCATION:https://researchseminars.org/talk/Metagov/47/
END:VEVENT
END:VCALENDAR
