BEGIN:VCALENDAR
VERSION:2.0
PRODID:researchseminars.org
CALSCALE:GREGORIAN
X-WR-CALNAME:researchseminars.org
BEGIN:VEVENT
SUMMARY:Liang Jiang (University of Chicago)
DTSTART:20221018T133000Z
DTEND:20221018T143000Z
DTSTAMP:20260423T021047Z
UID:MathPic/90
DESCRIPTION:Title: <a href="https://researchseminars.org/talk/MathPic/90/"
 >Path-Independent Quantum Gates</a>\nby Liang Jiang (University of Chicago
 ) as part of Mathematical Picture Language Seminar\n\nAbstract: TBA\n
LOCATION:https://researchseminars.org/talk/MathPic/90/
END:VEVENT
END:VCALENDAR
