BEGIN:VCALENDAR
VERSION:2.0
PRODID:researchseminars.org
CALSCALE:GREGORIAN
X-WR-CALNAME:researchseminars.org
BEGIN:VEVENT
SUMMARY:Melanie Wood (Harvard University)
DTSTART:20220920T133000Z
DTEND:20220920T143000Z
DTSTAMP:20260423T021045Z
UID:MathPic/86
DESCRIPTION:Title: <a href="https://researchseminars.org/talk/MathPic/86/"
 >Determining Distributions of Groups from their Moments</a>\nby Melanie Wo
 od (Harvard University) as part of Mathematical Picture Language Seminar\n
 \nAbstract: TBA\n
LOCATION:https://researchseminars.org/talk/MathPic/86/
END:VEVENT
END:VCALENDAR
