BEGIN:VCALENDAR
VERSION:2.0
PRODID:researchseminars.org
CALSCALE:GREGORIAN
X-WR-CALNAME:researchseminars.org
BEGIN:VEVENT
SUMMARY:Sitan Chen (University of California Berkeley)
DTSTART:20220510T133000Z
DTEND:20220510T143000Z
DTSTAMP:20260423T021033Z
UID:MathPic/81
DESCRIPTION:Title: <a href="https://researchseminars.org/talk/MathPic/81/"
 >Learning Polynomial Transformations</a>\nby Sitan Chen (University of Cal
 ifornia Berkeley) as part of Mathematical Picture Language Seminar\n\nAbst
 ract: TBA\n
LOCATION:https://researchseminars.org/talk/MathPic/81/
END:VEVENT
END:VCALENDAR
