BEGIN:VCALENDAR
VERSION:2.0
PRODID:researchseminars.org
CALSCALE:GREGORIAN
X-WR-CALNAME:researchseminars.org
BEGIN:VEVENT
SUMMARY:Vaughan Jones (Vanderbilt University)
DTSTART:20200721T140000Z
DTEND:20200721T150000Z
DTSTAMP:20260423T021056Z
UID:MathPic/8
DESCRIPTION:Title: <a href="https://researchseminars.org/talk/MathPic/8/">
 Applied von Neumann Algebra</a>\nby Vaughan Jones (Vanderbilt University) 
 as part of Mathematical Picture Language Seminar\n\nAbstract: TBA\n
LOCATION:https://researchseminars.org/talk/MathPic/8/
END:VEVENT
END:VCALENDAR
