BEGIN:VCALENDAR
VERSION:2.0
PRODID:researchseminars.org
CALSCALE:GREGORIAN
X-WR-CALNAME:researchseminars.org
BEGIN:VEVENT
SUMMARY:Paul Fendley (Oxford University)
DTSTART:20200714T140000Z
DTEND:20200714T150000Z
DTSTAMP:20260423T020954Z
UID:MathPic/7
DESCRIPTION:Title: <a href="https://researchseminars.org/talk/MathPic/7/">
 Integrability and Braided Tensor Categories</a>\nby Paul Fendley (Oxford U
 niversity) as part of Mathematical Picture Language Seminar\n\nAbstract: T
 BA\n
LOCATION:https://researchseminars.org/talk/MathPic/7/
END:VEVENT
END:VCALENDAR
