BEGIN:VCALENDAR
VERSION:2.0
PRODID:researchseminars.org
CALSCALE:GREGORIAN
X-WR-CALNAME:researchseminars.org
BEGIN:VEVENT
SUMMARY:Leslie Valiant (Harvard University)
DTSTART:20211116T143000Z
DTEND:20211116T153000Z
DTSTAMP:20260423T021051Z
UID:MathPic/64
DESCRIPTION:Title: <a href="https://researchseminars.org/talk/MathPic/64/"
 >Holographic Algorithms</a>\nby Leslie Valiant (Harvard University) as par
 t of Mathematical Picture Language Seminar\n\nAbstract: TBA\n
LOCATION:https://researchseminars.org/talk/MathPic/64/
END:VEVENT
END:VCALENDAR
