BEGIN:VCALENDAR
VERSION:2.0
PRODID:researchseminars.org
CALSCALE:GREGORIAN
X-WR-CALNAME:researchseminars.org
BEGIN:VEVENT
SUMMARY:Semyon Dyatlov (MIT)
DTSTART:20211109T143000Z
DTEND:20211109T153000Z
DTSTAMP:20260423T021038Z
UID:MathPic/63
DESCRIPTION:Title: <a href="https://researchseminars.org/talk/MathPic/63/"
 >Resonances for Open Quantum Maps</a>\nby Semyon Dyatlov (MIT) as part of 
 Mathematical Picture Language Seminar\n\nAbstract: TBA\n
LOCATION:https://researchseminars.org/talk/MathPic/63/
END:VEVENT
END:VCALENDAR
