BEGIN:VCALENDAR
VERSION:2.0
PRODID:researchseminars.org
CALSCALE:GREGORIAN
X-WR-CALNAME:researchseminars.org
BEGIN:VEVENT
SUMMARY:Jordan Cotler (Harvard University)
DTSTART:20211019T133000Z
DTEND:20211019T143000Z
DTSTAMP:20260423T021124Z
UID:MathPic/60
DESCRIPTION:Title: <a href="https://researchseminars.org/talk/MathPic/60/"
 >Quantum-enhanced Learning using a Quantum Memory</a>\nby Jordan Cotler (H
 arvard University) as part of Mathematical Picture Language Seminar\n\nAbs
 tract: TBA\n
LOCATION:https://researchseminars.org/talk/MathPic/60/
END:VEVENT
END:VCALENDAR
