BEGIN:VCALENDAR
VERSION:2.0
PRODID:researchseminars.org
CALSCALE:GREGORIAN
X-WR-CALNAME:researchseminars.org
BEGIN:VEVENT
SUMMARY:Sorin Popa (UCLA)
DTSTART:20210309T150000Z
DTEND:20210309T160000Z
DTSTAMP:20260423T021048Z
UID:MathPic/41
DESCRIPTION:Title: <a href="https://researchseminars.org/talk/MathPic/41/"
 >Some Analysis Aspects in Subfactor Theory</a>\nby Sorin Popa (UCLA) as pa
 rt of Mathematical Picture Language Seminar\n\nAbstract: TBA\n
LOCATION:https://researchseminars.org/talk/MathPic/41/
END:VEVENT
END:VCALENDAR
