BEGIN:VCALENDAR
VERSION:2.0
PRODID:researchseminars.org
CALSCALE:GREGORIAN
X-WR-CALNAME:researchseminars.org
BEGIN:VEVENT
SUMMARY:Gian Michale Graf (ETH-Zurich)
DTSTART:20201215T150000Z
DTEND:20201215T160000Z
DTSTAMP:20260423T021101Z
UID:MathPic/32
DESCRIPTION:Title: <a href="https://researchseminars.org/talk/MathPic/32/"
 >Topology in shallow-water waves: A violation of bulk-edge correspondence<
 /a>\nby Gian Michale Graf (ETH-Zurich) as part of Mathematical Picture Lan
 guage Seminar\n\nAbstract: TBA\n
LOCATION:https://researchseminars.org/talk/MathPic/32/
END:VEVENT
END:VCALENDAR
