BEGIN:VCALENDAR
VERSION:2.0
PRODID:researchseminars.org
CALSCALE:GREGORIAN
X-WR-CALNAME:researchseminars.org
BEGIN:VEVENT
SUMMARY:Joost Slingerland (National University of Ireland\, Maynooth)
DTSTART:20201020T140000Z
DTEND:20201020T150000Z
DTSTAMP:20260423T003259Z
UID:MathPic/21
DESCRIPTION:Title: <a href="https://researchseminars.org/talk/MathPic/21/"
 >Exploring small fusion rings and tensor categories</a>\nby Joost Slingerl
 and (National University of Ireland\, Maynooth) as part of Mathematical Pi
 cture Language Seminar\n\nAbstract: TBA\n
LOCATION:https://researchseminars.org/talk/MathPic/21/
END:VEVENT
END:VCALENDAR
