BEGIN:VCALENDAR
VERSION:2.0
PRODID:researchseminars.org
CALSCALE:GREGORIAN
X-WR-CALNAME:researchseminars.org
BEGIN:VEVENT
SUMMARY:Elizabeth Crosson (University of New Mexico)
DTSTART:20200609T140000Z
DTEND:20200609T150000Z
DTSTAMP:20260423T003248Z
UID:MathPic/2
DESCRIPTION:Title: <a href="https://researchseminars.org/talk/MathPic/2/">
 The sign problem and its relation to the spectral gap of quantum many-body
  systems</a>\nby Elizabeth Crosson (University of New Mexico) as part of M
 athematical Picture Language Seminar\n\nAbstract: TBA\n
LOCATION:https://researchseminars.org/talk/MathPic/2/
END:VEVENT
END:VCALENDAR
