BEGIN:VCALENDAR
VERSION:2.0
PRODID:researchseminars.org
CALSCALE:GREGORIAN
X-WR-CALNAME:researchseminars.org
BEGIN:VEVENT
SUMMARY:Kaifeng Bu (Ohio State)
DTSTART:20241015T203000Z
DTEND:20241015T213000Z
DTSTAMP:20260423T021127Z
UID:MathPic/133
DESCRIPTION:Title: <a href="https://researchseminars.org/talk/MathPic/133/
 ">A universal framework for Gaussian test</a>\nby Kaifeng Bu (Ohio State) 
 as part of Mathematical Picture Language Seminar\n\nLecture held in Jeffer
 son 356 and Zoom https://harvard.zoom.us/j/779283357?pwd=MitXVm1pYUlJVzZqT
 3lwV2pCT1ZUQT09.\n\nAbstract\nExploring the boundary between the classical
  and quantum computation is one of the fundamental problems in quantum com
 putation\, which plays an important role in the study of quantum advantage
 . In this talk\, I will introduce a new protocol for fermionic Gaussian te
 sting by using 3 copies input states\, where the protocol is based on the 
 fermionic convolution. In addition\, I will introduce the non-Gaussian mea
 sures to quantify the amount the non-Gaussianity.\n\nPasscode: 657361\n
LOCATION:https://researchseminars.org/talk/MathPic/133/
END:VEVENT
END:VCALENDAR
