BEGIN:VCALENDAR
VERSION:2.0
PRODID:researchseminars.org
CALSCALE:GREGORIAN
X-WR-CALNAME:researchseminars.org
BEGIN:VEVENT
SUMMARY:Jesse Peterson (Vanderbilt University)
DTSTART:20230425T133000Z
DTEND:20230425T143000Z
DTSTAMP:20260423T035406Z
UID:MathPic/106
DESCRIPTION:Title: <a href="https://researchseminars.org/talk/MathPic/106/
 ">Amenability and von Neumann algebras</a>\nby Jesse Peterson (Vanderbilt 
 University) as part of Mathematical Picture Language Seminar\n\nAbstract: 
 TBA\n
LOCATION:https://researchseminars.org/talk/MathPic/106/
END:VEVENT
END:VCALENDAR
