BEGIN:VCALENDAR
VERSION:2.0
PRODID:researchseminars.org
CALSCALE:GREGORIAN
X-WR-CALNAME:researchseminars.org
BEGIN:VEVENT
SUMMARY:Peter Love (Tufts University)
DTSTART:20230321T133000Z
DTEND:20230321T143000Z
DTSTAMP:20260423T021045Z
UID:MathPic/100
DESCRIPTION:Title: <a href="https://researchseminars.org/talk/MathPic/100/
 ">Contextual Subspace Variational Quantum Eigensolver</a>\nby Peter Love (
 Tufts University) as part of Mathematical Picture Language Seminar\n\nAbst
 ract: TBA\n
LOCATION:https://researchseminars.org/talk/MathPic/100/
END:VEVENT
END:VCALENDAR
