BEGIN:VCALENDAR
VERSION:2.0
PRODID:researchseminars.org
CALSCALE:GREGORIAN
X-WR-CALNAME:researchseminars.org
BEGIN:VEVENT
SUMMARY:Kim Myyryläinen\, Anna Balci
DTSTART:20241120T080000Z
DTEND:20241120T090000Z
DTSTAMP:20260422T121916Z
UID:MathMAC/21
DESCRIPTION:Title: <a href="https://researchseminars.org/talk/MathMAC/21/"
 >Semester seminar of junior researchers</a>\nby Kim Myyryläinen\, Anna Ba
 lci as part of Modelling of materials - theory\, model reduction and effic
 ient numerical methods (UNCE MathMAC)\n\nAbstract: TBA\n
LOCATION:https://researchseminars.org/talk/MathMAC/21/
END:VEVENT
END:VCALENDAR
