BEGIN:VCALENDAR
VERSION:2.0
PRODID:researchseminars.org
CALSCALE:GREGORIAN
X-WR-CALNAME:researchseminars.org
BEGIN:VEVENT
SUMMARY:Debashish Goswami (ISI\, Kolkata)
DTSTART:20200520T101500Z
DTEND:20200520T111500Z
DTSTAMP:20260423T010636Z
UID:MatPhySem/2
DESCRIPTION:Title: <a href="https://researchseminars.org/talk/MatPhySem/2/
 ">Levi-Civita connections for a class of spectral triples.</a>\nby Debashi
 sh Goswami (ISI\, Kolkata) as part of Mathematical Physics Seminar\n\n\nAb
 stract\nWe give a new definition of Levi-Civita connection for a noncommut
 ative pseudo-Riemannian metric on a noncommutative manifold given by a spe
 ctral triple. We prove the existence-uniqueness result for a class of modu
 les of one-forms over a large class of noncommutative manifolds\, includin
 g the matrix geometry of the fuzzy 3-sphere\, the quantum Heisenberg manif
 olds and Connes-Landi deformations of spectral triples on the Connes-Duboi
 s Violette-Rieffel-deformation of a compact manifold equipped with a free 
 toral action. This is based on a joint work with J. Bhowmick and S. Mukhop
 adhyay.\n
LOCATION:https://researchseminars.org/talk/MatPhySem/2/
END:VEVENT
END:VCALENDAR
