BEGIN:VCALENDAR
VERSION:2.0
PRODID:researchseminars.org
CALSCALE:GREGORIAN
X-WR-CALNAME:researchseminars.org
BEGIN:VEVENT
SUMMARY:Weibo Fu (Princeton University)
DTSTART:20220203T193000Z
DTEND:20220203T203000Z
DTSTAMP:20260423T022006Z
UID:MadNTS/2
DESCRIPTION:Title: <a href="https://researchseminars.org/talk/MadNTS/2/">S
 harp bounds for multiplicities of Bianchi modular forms</a>\nby Weibo Fu (
 Princeton University) as part of UW Madison Number Theory Seminar\n\nAbstr
 act: TBA\n
LOCATION:https://researchseminars.org/talk/MadNTS/2/
END:VEVENT
END:VCALENDAR
