BEGIN:VCALENDAR
VERSION:2.0
PRODID:researchseminars.org
CALSCALE:GREGORIAN
X-WR-CALNAME:researchseminars.org
BEGIN:VEVENT
SUMMARY:Can Ozan Oğuz (Galatasaray Üniversitesi)
DTSTART:20211112T140000Z
DTEND:20211112T150000Z
DTSTAMP:20260422T122628Z
UID:MSGSUMath/2
DESCRIPTION:Title: <a href="https://researchseminars.org/talk/MSGSUMath/2/
 ">Tekrarlı Çelenk Çarpımlarında Kısıtlama ve Yükseltme</a>\nby Can
  Ozan Oğuz (Galatasaray Üniversitesi) as part of Mimar Sinan University 
 Mathematics Seminars\n\n\nAbstract\nSimetrik grubun temsilleri pek çok se
 bepten dolayı ilgi görüyor. 2010 yılında Khovanov\, bu temsiller üze
 rindeki kısıtlama ve yükseltme operatörlerinin ilişkilerinden oluşan
  bir kategori tanımladı: Heisenberg kategorisi. Devamında bu çalışma
  simetrik grubun Frobenius cebirleri ile çelenk çarpımlarına genelleş
 tirildi. Biz konuyu farklı bir yönde\, simetrik grupların birbirleri il
 e tekrarlı çelenk çarpımları için ele alıyoruz. Bu durumda kısıtl
 ama ve yükseltme operatörleri arasındaki ilişkileri tarif eden bir kat
 egorinin yapısını kısmi olarak ortaya koyuyoruz. Mee Seong Im ile orta
 k çalışmamızdır.\n
LOCATION:https://researchseminars.org/talk/MSGSUMath/2/
END:VEVENT
END:VCALENDAR
