BEGIN:VCALENDAR
VERSION:2.0
PRODID:researchseminars.org
CALSCALE:GREGORIAN
X-WR-CALNAME:researchseminars.org
BEGIN:VEVENT
SUMMARY:Arthur Bartels (Münster)
DTSTART:20200427T123000Z
DTEND:20200427T133000Z
DTSTAMP:20260423T035733Z
UID:MS-top/1
DESCRIPTION:Title: <a href="https://researchseminars.org/talk/MS-top/1/">K
 -theory of Hecke algebras and controlled topology</a>\nby Arthur Bartels (
 Münster) as part of Münster Topology Seminar\n\nAbstract: TBA\n
LOCATION:https://researchseminars.org/talk/MS-top/1/
END:VEVENT
END:VCALENDAR
