BEGIN:VCALENDAR
VERSION:2.0
PRODID:researchseminars.org
CALSCALE:GREGORIAN
X-WR-CALNAME:researchseminars.org
BEGIN:VEVENT
SUMMARY:Robert Nowak (University of Wisconsin-Madison)
DTSTART:20221027T160000Z
DTEND:20221027T170000Z
DTSTAMP:20260423T003256Z
UID:MPML/85
DESCRIPTION:Title: <a href="https://researchseminars.org/talk/MPML/85/">Th
 e Neural Balance Theorem and its Consequences</a>\nby Robert Nowak (Univer
 sity of Wisconsin-Madison) as part of Mathematics\, Physics and Machine Le
 arning (IST\, Lisbon)\n\nAbstract: TBA\n
LOCATION:https://researchseminars.org/talk/MPML/85/
END:VEVENT
END:VCALENDAR
