BEGIN:VCALENDAR
VERSION:2.0
PRODID:researchseminars.org
CALSCALE:GREGORIAN
X-WR-CALNAME:researchseminars.org
BEGIN:VEVENT
SUMMARY:Ulugbek Kamilov (University of Washington)
DTSTART:20210611T130000Z
DTEND:20210611T140000Z
DTSTAMP:20260423T003246Z
UID:MPML/46
DESCRIPTION:Title: <a href="https://researchseminars.org/talk/MPML/46/">Co
 mputational Imaging: Reconciling Physical and Learned Models</a>\nby Ulugb
 ek Kamilov (University of Washington) as part of Mathematics\, Physics and
  Machine Learning (IST\, Lisbon)\n\n\nAbstract\n<p class="western" style="
 text-align:justify"><span style="line-height:100%"><font face="Calibri\, s
 erif"><span style="font-size:11pt">Computational imaging is a rapidly grow
 ing area that seeks to enhance the capabilities of imaging instruments by 
 viewing imaging as an inverse problem. There are currently two distinct ap
 proaches for designing computational imaging methods: model-based and lear
 ning-based. Model-based methods leverage analytical signal properties and 
 often come with theoretical guarantees and insights. Learning-based method
 s leverage data-driven representations for best empirical performance thro
 ugh training on large datasets. This talk presents Regularization by Artif
 act Removal (RARE)\, as a framework for reconciling both viewpoints by pro
 viding a learning-based extension to the classical theory. RARE relies on 
 pre-trained “artifact-removing deep neural nets” for infusing learned 
 prior knowledge into an inverse problem\, while maintaining a clear separa
 tion between the prior and physics-based acquisition model. O</span></font
 ><font face="Calibri\, serif"><span style="font-size:11pt">ur results indi
 cate that RARE can achieve state-of-the-art performance in different compu
 tational imaging tasks\, while also being amenable to rigorous theoretical
  analysis. We will focus on the applications of RARE in biomedical imaging
 \, including magnetic resonance and tomographic imaging.</span></font></sp
 an></p>\n\n<p class="western" style="text-align:justify"><span style="line
 -height:100%"><font face="Calibri\, serif"><span style="font-size:11pt"><b
 >This talk will be based on the following references</b></span></font></sp
 an></p>\n\n<ol>\n	<li class="western"><span style="line-height:100%"><font
  face="Calibri\, serif"><span style="font-size:11pt">J. Liu\, Y. Sun\, C. 
 Eldeniz\, W. Gan\, H. An\, and U. S. Kamilov\, “<a href="https://arxiv.o
 rg/abs/1912.05854">RARE: Image Reconstruction using Deep Priors Learned wi
 thout Ground Truth\,</a>” IEEE J. Sel. Topics Signal Process.\, vol. 14\
 , no. 6\, pp. 1088-1099\, October 2020.</span></font></span></li>\n	<li cl
 ass="western" style="text-align: justify\;"><span style="line-height:100%"
 ><font face="Calibri\, serif"><span style="font-size:11pt">Z. Wu\, Y. Sun\
 , A. Matlock\, J. Liu\, L. Tian\, and U. S. Kamilov\, “<a href="https://
 arxiv.org/abs/1911.13241">SIMBA: Scalable Inversion in Optical Tomography 
 using Deep Denoising Priors</a>\,” IEEE J. Sel. Topics Signal Process.\,
  vol. 14\, no. 6\, pp. 1163-1175\, October 2020.</span></font></span></li>
 \n	<li class="western" style="text-align: justify\;"><span style="line-hei
 ght:100%"><font face="Calibri\, serif"><span style="font-size:11pt">J. Liu
 \, Y. Sun\, W. Gan\, X. Xu\, B. Wohlberg\, and U. S. Kamilov\, “<a href=
 "https://arxiv.org/abs/2101.09379">SGD-Net: Efficient Model-Based Deep Lea
 rning with Theoretical Guarantees</a>\,” IEEE Trans. Comput. Imag.\, in 
 press.</span></font></span></li>\n</ol>\n\n<p class="western" style="text-
 align:justify">&nbsp\;</p>\n
LOCATION:https://researchseminars.org/talk/MPML/46/
END:VEVENT
END:VCALENDAR
