BEGIN:VCALENDAR
VERSION:2.0
PRODID:researchseminars.org
CALSCALE:GREGORIAN
X-WR-CALNAME:researchseminars.org
BEGIN:VEVENT
SUMMARY:Markus Hausmann (Universität Bonn)
DTSTART:20200630T160000Z
DTEND:20200630T170000Z
DTSTAMP:20260423T024541Z
UID:MITTop/17
DESCRIPTION:Title: <a href="https://researchseminars.org/talk/MITTop/17/">
 Global group laws and the equivariant Quillen theorem</a>\nby Markus Hausm
 ann (Universität Bonn) as part of MIT topology seminar\n\n\nAbstract\nI w
 ill discuss an equivariant version of Quillen's theorem that the complex b
 ordism ring carries the universal formal group law\, both over a fixed abe
 lian group and in a global equivariant setting.\n
LOCATION:https://researchseminars.org/talk/MITTop/17/
END:VEVENT
END:VCALENDAR
