BEGIN:VCALENDAR
VERSION:2.0
PRODID:researchseminars.org
CALSCALE:GREGORIAN
X-WR-CALNAME:researchseminars.org
BEGIN:VEVENT
SUMMARY:Brendan Creutz (University of Canterbury)
DTSTART:20200929T203000Z
DTEND:20200929T213000Z
DTSTAMP:20260423T125059Z
UID:MITNT/9
DESCRIPTION:Title: <a href="https://researchseminars.org/talk/MITNT/9/">Qu
 adratic points on del Pezzo surfaces of degree 4</a>\nby Brendan Creutz (U
 niversity of Canterbury) as part of MIT number theory seminar\n\n\nAbstrac
 t\nI will report on joint work (in progress) with Bianca Viray concerning 
 the following question. If $X/k$ is a smooth complete intersection of $2$ 
 quadrics in $\\mathbb{P}^n$ over a field $k$\, does $X$ have a rational po
 int over some quadratic extension of $k$?\n
LOCATION:https://researchseminars.org/talk/MITNT/9/
END:VEVENT
END:VCALENDAR
