BEGIN:VCALENDAR
VERSION:2.0
PRODID:researchseminars.org
CALSCALE:GREGORIAN
X-WR-CALNAME:researchseminars.org
BEGIN:VEVENT
SUMMARY:Xiao Wang (University of Chicago)
DTSTART:20221019T200000Z
DTEND:20221019T210000Z
DTSTAMP:20260423T052334Z
UID:MITLie/62
DESCRIPTION:Title: <a href="https://researchseminars.org/talk/MITLie/62/">
 Title to be announced</a>\nby Xiao Wang (University of Chicago) as part of
  MIT Lie groups seminar\n\nLecture held in 2-142.\nAbstract: TBA\n
LOCATION:https://researchseminars.org/talk/MITLie/62/
END:VEVENT
END:VCALENDAR
