BEGIN:VCALENDAR
VERSION:2.0
PRODID:researchseminars.org
CALSCALE:GREGORIAN
X-WR-CALNAME:researchseminars.org
BEGIN:VEVENT
SUMMARY:Samuel Muñoz Echániz (Cambridge)
DTSTART:20221101T150000Z
DTEND:20221101T160000Z
DTSTAMP:20260423T021117Z
UID:MHTRT/8
DESCRIPTION:Title: <a href="https://researchseminars.org/talk/MHTRT/8/">Ma
 pping class groups of h-cobordant manifolds</a>\nby Samuel Muñoz Echániz
  (Cambridge) as part of Manifolds\, homotopy theory\, and related topics\n
 \nAbstract: TBA\n
LOCATION:https://researchseminars.org/talk/MHTRT/8/
END:VEVENT
END:VCALENDAR
