BEGIN:VCALENDAR
VERSION:2.0
PRODID:researchseminars.org
CALSCALE:GREGORIAN
X-WR-CALNAME:researchseminars.org
BEGIN:VEVENT
SUMMARY:Jan Steinebrunner (Cambridge University)
DTSTART:20220830T140000Z
DTEND:20220830T150000Z
DTSTAMP:20260423T021113Z
UID:MHTRT/6
DESCRIPTION:Title: <a href="https://researchseminars.org/talk/MHTRT/6/">Th
 e genus filtration of the surface category</a>\nby Jan Steinebrunner (Camb
 ridge University) as part of Manifolds\, homotopy theory\, and related top
 ics\n\nAbstract: TBA\n
LOCATION:https://researchseminars.org/talk/MHTRT/6/
END:VEVENT
END:VCALENDAR
