BEGIN:VCALENDAR
VERSION:2.0
PRODID:researchseminars.org
CALSCALE:GREGORIAN
X-WR-CALNAME:researchseminars.org
BEGIN:VEVENT
SUMMARY:Patrick Iglesias-Zemmour
DTSTART:20210401T130000Z
DTEND:20210401T150000Z
DTSTAMP:20260423T035750Z
UID:MGDS/7
DESCRIPTION:Title: <a href="https://researchseminars.org/talk/MGDS/7/">Orb
 ifolds\, quasifolds as diffeologies and C*-algebras</a>\nby Patrick Iglesi
 as-Zemmour as part of Monthly Global Diffeology Seminar\n\nAbstract: TBA\n
LOCATION:https://researchseminars.org/talk/MGDS/7/
END:VEVENT
END:VCALENDAR
