BEGIN:VCALENDAR
VERSION:2.0
PRODID:researchseminars.org
CALSCALE:GREGORIAN
X-WR-CALNAME:researchseminars.org
BEGIN:VEVENT
SUMMARY:Patrick Iglesias-Zemmour
DTSTART:20250117T120000Z
DTEND:20250117T140000Z
DTSTAMP:20260423T021240Z
UID:MGDS/43
DESCRIPTION:Title: <a href="https://researchseminars.org/talk/MGDS/43/">Ge
 neral relativity\, or the principle of general covariance (I)</a>\nby Patr
 ick Iglesias-Zemmour as part of Monthly Global Diffeology Seminar\n\nAbstr
 act: TBA\n
LOCATION:https://researchseminars.org/talk/MGDS/43/
END:VEVENT
END:VCALENDAR
