BEGIN:VCALENDAR
VERSION:2.0
PRODID:researchseminars.org
CALSCALE:GREGORIAN
X-WR-CALNAME:researchseminars.org
BEGIN:VEVENT
SUMMARY:Francois Ziegler
DTSTART:20240510T120000Z
DTEND:20240510T140000Z
DTSTAMP:20260423T035930Z
UID:MGDS/36
DESCRIPTION:Title: <a href="https://researchseminars.org/talk/MGDS/36/">Fr
 obenius reciprocity: symplectic\, prequantum\, diffeological</a>\nby Franc
 ois Ziegler as part of Monthly Global Diffeology Seminar\n\nAbstract: TBA\
 n
LOCATION:https://researchseminars.org/talk/MGDS/36/
END:VEVENT
END:VCALENDAR
